BEGIN:VCALENDAR
VERSION:2.0
PRODID:-//James River Association - ECPv6.15.20//NONSGML v1.0//EN
CALSCALE:GREGORIAN
METHOD:PUBLISH
X-ORIGINAL-URL:https://thejamesriver.org
X-WR-CALDESC:Events for James River Association
REFRESH-INTERVAL;VALUE=DURATION:PT1H
X-Robots-Tag:noindex
X-PUBLISHED-TTL:PT1H
BEGIN:VTIMEZONE
TZID:America/New_York
BEGIN:DAYLIGHT
TZOFFSETFROM:-0500
TZOFFSETTO:-0400
TZNAME:EDT
DTSTART:20240310T070000
END:DAYLIGHT
BEGIN:STANDARD
TZOFFSETFROM:-0400
TZOFFSETTO:-0500
TZNAME:EST
DTSTART:20241103T060000
END:STANDARD
BEGIN:DAYLIGHT
TZOFFSETFROM:-0500
TZOFFSETTO:-0400
TZNAME:EDT
DTSTART:20250309T070000
END:DAYLIGHT
BEGIN:STANDARD
TZOFFSETFROM:-0400
TZOFFSETTO:-0500
TZNAME:EST
DTSTART:20251102T060000
END:STANDARD
BEGIN:DAYLIGHT
TZOFFSETFROM:-0500
TZOFFSETTO:-0400
TZNAME:EDT
DTSTART:20260308T070000
END:DAYLIGHT
BEGIN:STANDARD
TZOFFSETFROM:-0400
TZOFFSETTO:-0500
TZNAME:EST
DTSTART:20261101T060000
END:STANDARD
END:VTIMEZONE
BEGIN:VEVENT
DTSTART;TZID=America/New_York:20251009T100000
DTEND;TZID=America/New_York:20251009T160000
DTSTAMP:20260422T152642
CREATED:20250922T185513Z
LAST-MODIFIED:20250922T185514Z
UID:10000344-1760004000-1760025600@thejamesriver.org
SUMMARY:Living Shoreline Collaborative's 2025 Summit
DESCRIPTION:Join us for the 2025 Living Shoreline Summit: Together for Tomorrow: Catalyzing Coastal Resilience through Living Shorelines! We’ll explore how collaboration and partnerships are driving innovation in shoreline restoration. Connect with experts\, hear from engaging speakers\, and unlock new possibilities for coastal resilience. \n📍 The Mariners’ Museum in Newport News\, VA🗓️ October 9\, 2025⏰ 10:00 AM – 4:00 PM \n$15 per participant\, Pre registration required \n			\n				Register Now!
URL:https://thejamesriver.org/event/lsc25summit/
LOCATION:The Mariners’ Museum and Park\, 100 Museum Drive\, Newport News\, VA\, 23606\, United States
CATEGORIES:Living Shorelines,Tidewater Events,Workshops and Summits
ATTACH;FMTTYPE=image/png:https://thejamesriver.org/wp-content/uploads/2025/09/Screenshot-2025-09-22-110752.png
ORGANIZER;CN="Jamie Brunkow":MAILTO:jbrunkow@thejamesriver.org
END:VEVENT
END:VCALENDAR