BEGIN:VCALENDAR
VERSION:2.0
PRODID:-//James River Association - ECPv6.15.20//NONSGML v1.0//EN
CALSCALE:GREGORIAN
METHOD:PUBLISH
X-ORIGINAL-URL:https://thejamesriver.org
X-WR-CALDESC:Events for James River Association
REFRESH-INTERVAL;VALUE=DURATION:PT1H
X-Robots-Tag:noindex
X-PUBLISHED-TTL:PT1H
BEGIN:VTIMEZONE
TZID:America/New_York
BEGIN:DAYLIGHT
TZOFFSETFROM:-0500
TZOFFSETTO:-0400
TZNAME:EDT
DTSTART:20250309T070000
END:DAYLIGHT
BEGIN:STANDARD
TZOFFSETFROM:-0400
TZOFFSETTO:-0500
TZNAME:EST
DTSTART:20251102T060000
END:STANDARD
BEGIN:DAYLIGHT
TZOFFSETFROM:-0500
TZOFFSETTO:-0400
TZNAME:EDT
DTSTART:20260308T070000
END:DAYLIGHT
BEGIN:STANDARD
TZOFFSETFROM:-0400
TZOFFSETTO:-0500
TZNAME:EST
DTSTART:20261101T060000
END:STANDARD
BEGIN:DAYLIGHT
TZOFFSETFROM:-0500
TZOFFSETTO:-0400
TZNAME:EDT
DTSTART:20270314T070000
END:DAYLIGHT
BEGIN:STANDARD
TZOFFSETFROM:-0400
TZOFFSETTO:-0500
TZNAME:EST
DTSTART:20271107T060000
END:STANDARD
END:VTIMEZONE
BEGIN:VEVENT
DTSTART;TZID=America/New_York:20260426T130000
DTEND;TZID=America/New_York:20260426T140000
DTSTAMP:20260422T125949
CREATED:20260421T192356Z
LAST-MODIFIED:20260421T192555Z
UID:10000434-1777208400-1777212000@thejamesriver.org
SUMMARY:Virtual Info Session - JRA Programs for Teens: Summer Expeditions + FLOW
DESCRIPTION:Join us for a virtual information session to learn more about two exciting opportunities for teens: James River Expeditions and Future Leaders of Our Waters (FLOW). These programs help students build skills\, confidence\, and a deeper connection to the James River. \nJames River Expeditions\nA five-day\, four-night paddling and camping experience for students ages 14–18. Participants travel the river by day and camp along its banks by night while learning outdoor skills\, teamwork\, and environmental science.\nApplication deadline: May 10 \nFuture Leaders of Our Waters (FLOW)\nA selective\, year-long leadership program for rising 10th–12th grade students in the Richmond area. Participants explore environmental science\, advocacy\, and policy while developing leadership skills and completing a capstone project.\nApplication deadline: May 10 \nDuring the session\, we’ll cover: \n\nWhat each program experience looks like\nSkills students will gain in both programs (paddling\, leadership\, field science\, advocacy)\nProgram expectations\, eligibility\, and time commitment\nKey dates\, logistics\, and how to apply\n\nLeaders from our Education Team will facilitate the session and be available for questions. \nRegister for the info session
URL:https://thejamesriver.org/event/virtual-info-session-jra-programs-for-teens-summer-expeditions-flow/
LOCATION:Virtual
CATEGORIES:Education Program
ATTACH;FMTTYPE=image/jpeg:https://thejamesriver.org/wp-content/uploads/2026/04/IMG_9947.jpg
ORGANIZER;CN="Gabe Thornton":MAILTO:gthornton@thejamesriver.org
END:VEVENT
BEGIN:VEVENT
DTSTART;TZID=America/New_York:20260427T180000
DTEND;TZID=America/New_York:20260427T190000
DTSTAMP:20260422T125949
CREATED:20260421T192721Z
LAST-MODIFIED:20260421T192721Z
UID:10000435-1777312800-1777316400@thejamesriver.org
SUMMARY:Virtual Info Session - JRA Programs for Teens: Summer Expeditions + FLOW
DESCRIPTION:Join us for a virtual information session to learn more about two exciting opportunities for teens: James River Expeditions and Future Leaders of Our Waters (FLOW). These programs help students build skills\, confidence\, and a deeper connection to the James River. \nJames River Expeditions\nA five-day\, four-night paddling and camping experience for students ages 14–18. Participants travel the river by day and camp along its banks by night while learning outdoor skills\, teamwork\, and environmental science.\nApplication deadline: May 10 \nFuture Leaders of Our Waters (FLOW)\nA selective\, year-long leadership program for rising 10th–12th grade students in the Richmond area. Participants explore environmental science\, advocacy\, and policy while developing leadership skills and completing a capstone project.\nApplication deadline: May 10 \nDuring the session\, we’ll cover: \n\nWhat each program experience looks like\nSkills students will gain in both programs (paddling\, leadership\, field science\, advocacy)\nProgram expectations\, eligibility\, and time commitment\nKey dates\, logistics\, and how to apply\n\nLeaders from our Education Team will facilitate the session and be available for questions. \nRegister for the info session
URL:https://thejamesriver.org/event/virtual-info-session-jra-programs-for-teens-summer-expeditions-flow-2/
LOCATION:Virtual
CATEGORIES:Education Program
ATTACH;FMTTYPE=image/jpeg:https://thejamesriver.org/wp-content/uploads/2026/04/IMG_9947.jpg
ORGANIZER;CN="Gabe Thornton":MAILTO:gthornton@thejamesriver.org
END:VEVENT
END:VCALENDAR